BEGIN:VCALENDAR
VERSION:2.0
PRODID:-//ČDS - ECPv6.15.19//NONSGML v1.0//EN
CALSCALE:GREGORIAN
METHOD:PUBLISH
X-WR-CALNAME:ČDS
X-ORIGINAL-URL:https://derm.cz
X-WR-CALDESC:Akce na ČDS
REFRESH-INTERVAL;VALUE=DURATION:PT1H
X-Robots-Tag:noindex
X-PUBLISHED-TTL:PT1H
BEGIN:VTIMEZONE
TZID:Europe/Prague
BEGIN:DAYLIGHT
TZOFFSETFROM:+0100
TZOFFSETTO:+0200
TZNAME:CEST
DTSTART:20250330T010000
END:DAYLIGHT
BEGIN:STANDARD
TZOFFSETFROM:+0200
TZOFFSETTO:+0100
TZNAME:CET
DTSTART:20251026T010000
END:STANDARD
BEGIN:DAYLIGHT
TZOFFSETFROM:+0100
TZOFFSETTO:+0200
TZNAME:CEST
DTSTART:20260329T010000
END:DAYLIGHT
BEGIN:STANDARD
TZOFFSETFROM:+0200
TZOFFSETTO:+0100
TZNAME:CET
DTSTART:20261025T010000
END:STANDARD
BEGIN:DAYLIGHT
TZOFFSETFROM:+0100
TZOFFSETTO:+0200
TZNAME:CEST
DTSTART:20270328T010000
END:DAYLIGHT
BEGIN:STANDARD
TZOFFSETFROM:+0200
TZOFFSETTO:+0100
TZNAME:CET
DTSTART:20271031T010000
END:STANDARD
END:VTIMEZONE
BEGIN:VEVENT
DTSTART;VALUE=DATE:20260611
DTEND;VALUE=DATE:20260614
DTSTAMP:20260424T174302
CREATED:20260120T090819Z
LAST-MODIFIED:20260325T213558Z
UID:4101-1781136000-1781395199@derm.cz
SUMMARY:XXI. kongres ČDS+SDVS
DESCRIPTION:Místo konání: Olomouc \nDélka trvání: 3 dny \nPořadatel: ČDS ČLS JEP\, SDVS \nOdborný garant: prof. MUDr. Petr Arenberger\, DrSc.\, MBA\, FCMA \nKontakt: www.jasta.cz \n  \n3825 CDS Kongres Olomouc 2026 Upoutavka v02 (1)
URL:https://derm.cz/udalost/xxi-kongres-cdssdvs/
ATTACH;FMTTYPE=image/webp:https://derm.cz/wp-content/uploads/2025/04/calendar_placeholder_16_10.webp
END:VEVENT
END:VCALENDAR