BEGIN:VCALENDAR
VERSION:2.0
PRODID:-//ČDS - ECPv6.15.19//NONSGML v1.0//EN
CALSCALE:GREGORIAN
METHOD:PUBLISH
X-WR-CALNAME:ČDS
X-ORIGINAL-URL:https://derm.cz
X-WR-CALDESC:Akce na ČDS
REFRESH-INTERVAL;VALUE=DURATION:PT1H
X-Robots-Tag:noindex
X-PUBLISHED-TTL:PT1H
BEGIN:VTIMEZONE
TZID:Europe/Prague
BEGIN:DAYLIGHT
TZOFFSETFROM:+0100
TZOFFSETTO:+0200
TZNAME:CEST
DTSTART:20240331T010000
END:DAYLIGHT
BEGIN:STANDARD
TZOFFSETFROM:+0200
TZOFFSETTO:+0100
TZNAME:CET
DTSTART:20241027T010000
END:STANDARD
BEGIN:DAYLIGHT
TZOFFSETFROM:+0100
TZOFFSETTO:+0200
TZNAME:CEST
DTSTART:20250330T010000
END:DAYLIGHT
BEGIN:STANDARD
TZOFFSETFROM:+0200
TZOFFSETTO:+0100
TZNAME:CET
DTSTART:20251026T010000
END:STANDARD
BEGIN:DAYLIGHT
TZOFFSETFROM:+0100
TZOFFSETTO:+0200
TZNAME:CEST
DTSTART:20260329T010000
END:DAYLIGHT
BEGIN:STANDARD
TZOFFSETFROM:+0200
TZOFFSETTO:+0100
TZNAME:CET
DTSTART:20261025T010000
END:STANDARD
END:VTIMEZONE
BEGIN:VEVENT
DTSTART;VALUE=DATE:20250605
DTEND;VALUE=DATE:20250608
DTSTAMP:20260425T003844
CREATED:20250325T202232Z
LAST-MODIFIED:20250529T175348Z
UID:1934-1749081600-1749340799@derm.cz
SUMMARY:XX. kongres slovenských a českých dermatovenerologů
DESCRIPTION:Vážené kolegyne\, kolegovia\, milí priatelia\,\nspoločné odborné podujatia českých a slovenských dermatovenerológov sa datujú už od vzniku Československej dermatovenerologickej spoločnosti v roku 1922. V júni 2005 sme sa však po prvýkrát stretli v Brne na podujatí nového formátu – na 1. kongrese českých a slovenských dermatovenerológov. Čas ale letí veľmi rýchlo a tento rok sa bude konať jubilejný\, už dvadsiaty ročník nášho spoločného kongresu. Dovoľte mi teda\, aby som Vás v mene organizačného výboru pozval na tohtoročný\, XX. kongres slovenských a českých dermatovenerológov. Po pozitívnych ohlasoch na predchádzajúce ročníky\, organizované vo Vysokých Tatrách\,\nsme sa rozhodli opäť zvoliť za miesto nášho stretnutia Štrbské Pleso. Veríme\, že sa Vám bude vo Vysokých Tatrách aj tento rok páčiť a že si budete môcť popri odborných aktivitách užiť aj krásy vysokohorskej prírody. \nDoc. MUDr. Dušan Buchvald\, PhD.\nza organizačný výbor kongresu \nDalší informace na adrese: https://sdvs.sk/kongres-2025/ \nPDF pozvánka ke stažení: xx kongres pozvanka_A5-2
URL:https://derm.cz/udalost/xx-kongres-slovenskych-a-ceskych-dermatovenerologu/
LOCATION:Hotel Patria\, Štrbské pleso\, Štrbské Pleso 33\, Štrbské Pleso\, Slovakia (Slovak Republic)
ATTACH;FMTTYPE=image/webp:https://derm.cz/wp-content/uploads/2025/03/kongres.webp
END:VEVENT
END:VCALENDAR