BEGIN:VCALENDAR
VERSION:2.0
PRODID:-//ČDS - ECPv6.15.19//NONSGML v1.0//EN
CALSCALE:GREGORIAN
METHOD:PUBLISH
X-WR-CALNAME:ČDS
X-ORIGINAL-URL:https://derm.cz
X-WR-CALDESC:Akce na ČDS
REFRESH-INTERVAL;VALUE=DURATION:PT1H
X-Robots-Tag:noindex
X-PUBLISHED-TTL:PT1H
BEGIN:VTIMEZONE
TZID:Europe/Prague
BEGIN:DAYLIGHT
TZOFFSETFROM:+0100
TZOFFSETTO:+0200
TZNAME:CEST
DTSTART:20250330T010000
END:DAYLIGHT
BEGIN:STANDARD
TZOFFSETFROM:+0200
TZOFFSETTO:+0100
TZNAME:CET
DTSTART:20251026T010000
END:STANDARD
BEGIN:DAYLIGHT
TZOFFSETFROM:+0100
TZOFFSETTO:+0200
TZNAME:CEST
DTSTART:20260329T010000
END:DAYLIGHT
BEGIN:STANDARD
TZOFFSETFROM:+0200
TZOFFSETTO:+0100
TZNAME:CET
DTSTART:20261025T010000
END:STANDARD
BEGIN:DAYLIGHT
TZOFFSETFROM:+0100
TZOFFSETTO:+0200
TZNAME:CEST
DTSTART:20270328T010000
END:DAYLIGHT
BEGIN:STANDARD
TZOFFSETFROM:+0200
TZOFFSETTO:+0100
TZNAME:CET
DTSTART:20271031T010000
END:STANDARD
END:VTIMEZONE
BEGIN:VEVENT
DTSTART;TZID=Europe/Prague:20260120T170000
DTEND;TZID=Europe/Prague:20260120T190000
DTSTAMP:20260424T212840
CREATED:20251230T094355Z
LAST-MODIFIED:20251230T094355Z
UID:4049-1768928400-1768935600@derm.cz
SUMMARY:Webinář: Diferenciální diagnostika v pediatrické praxi
DESCRIPTION:Délka trvání: 2 hodiny \nMísto konání: webinář \nPořadatel: Grada Publishing a.s. \nOdborný garant: doc. MUDr. Jan David\, Ph.D. \nKontakt: michaela.lizlerova@grada.cz
URL:https://derm.cz/udalost/webinar-diferencialni-diagnostika-v-pediatricke-praxi/
ATTACH;FMTTYPE=image/webp:https://derm.cz/wp-content/uploads/2025/04/calendar_placeholder_16_10.webp
END:VEVENT
END:VCALENDAR