BEGIN:VCALENDAR
VERSION:2.0
PRODID:-//ČDS - ECPv6.15.19//NONSGML v1.0//EN
CALSCALE:GREGORIAN
METHOD:PUBLISH
X-WR-CALNAME:ČDS
X-ORIGINAL-URL:https://derm.cz
X-WR-CALDESC:Akce na ČDS
REFRESH-INTERVAL;VALUE=DURATION:PT1H
X-Robots-Tag:noindex
X-PUBLISHED-TTL:PT1H
BEGIN:VTIMEZONE
TZID:Europe/Prague
BEGIN:DAYLIGHT
TZOFFSETFROM:+0100
TZOFFSETTO:+0200
TZNAME:CEST
DTSTART:20240331T010000
END:DAYLIGHT
BEGIN:STANDARD
TZOFFSETFROM:+0200
TZOFFSETTO:+0100
TZNAME:CET
DTSTART:20241027T010000
END:STANDARD
BEGIN:DAYLIGHT
TZOFFSETFROM:+0100
TZOFFSETTO:+0200
TZNAME:CEST
DTSTART:20250330T010000
END:DAYLIGHT
BEGIN:STANDARD
TZOFFSETFROM:+0200
TZOFFSETTO:+0100
TZNAME:CET
DTSTART:20251026T010000
END:STANDARD
BEGIN:DAYLIGHT
TZOFFSETFROM:+0100
TZOFFSETTO:+0200
TZNAME:CEST
DTSTART:20260329T010000
END:DAYLIGHT
BEGIN:STANDARD
TZOFFSETFROM:+0200
TZOFFSETTO:+0100
TZNAME:CET
DTSTART:20261025T010000
END:STANDARD
END:VTIMEZONE
BEGIN:VEVENT
DTSTART;VALUE=DATE:20251119
DTEND;VALUE=DATE:20251120
DTSTAMP:20260424T225651
CREATED:20250422T135526Z
LAST-MODIFIED:20250512T192711Z
UID:2605-1763510400-1763596799@derm.cz
SUMMARY:Regionální dermatovenerologický seminář v Hradci Králové
DESCRIPTION:Místo konání: PETROF Gallery\, Hradec Králové\, Na Brně 2136/4 \nDélka trvání: 4 hodiny \nPořadatel: ČLS JEP a Klinika nemocí kožních a pohlavních LF UK \nOdborný garant: doc. MUDr. Jarmila Čelakovská\, Ph.D. \nKontakt: www.signify.cz
URL:https://derm.cz/udalost/regionalni-dermatovenerologicky-seminar-2/
LOCATION:PETROF Gallery\, Na Brně 2136/4\, Hradec Králové\, Czech Republic
ATTACH;FMTTYPE=image/webp:https://derm.cz/wp-content/uploads/2024/12/logo_re_oswald-2.webp
END:VEVENT
END:VCALENDAR