BEGIN:VCALENDAR
VERSION:2.0
PRODID:-//ČDS - ECPv6.15.19//NONSGML v1.0//EN
CALSCALE:GREGORIAN
METHOD:PUBLISH
X-WR-CALNAME:ČDS
X-ORIGINAL-URL:https://derm.cz
X-WR-CALDESC:Akce na ČDS
REFRESH-INTERVAL;VALUE=DURATION:PT1H
X-Robots-Tag:noindex
X-PUBLISHED-TTL:PT1H
BEGIN:VTIMEZONE
TZID:Europe/Prague
BEGIN:DAYLIGHT
TZOFFSETFROM:+0100
TZOFFSETTO:+0200
TZNAME:CEST
DTSTART:20240331T010000
END:DAYLIGHT
BEGIN:STANDARD
TZOFFSETFROM:+0200
TZOFFSETTO:+0100
TZNAME:CET
DTSTART:20241027T010000
END:STANDARD
BEGIN:DAYLIGHT
TZOFFSETFROM:+0100
TZOFFSETTO:+0200
TZNAME:CEST
DTSTART:20250330T010000
END:DAYLIGHT
BEGIN:STANDARD
TZOFFSETFROM:+0200
TZOFFSETTO:+0100
TZNAME:CET
DTSTART:20251026T010000
END:STANDARD
BEGIN:DAYLIGHT
TZOFFSETFROM:+0100
TZOFFSETTO:+0200
TZNAME:CEST
DTSTART:20260329T010000
END:DAYLIGHT
BEGIN:STANDARD
TZOFFSETFROM:+0200
TZOFFSETTO:+0100
TZNAME:CET
DTSTART:20261025T010000
END:STANDARD
END:VTIMEZONE
BEGIN:VEVENT
DTSTART;VALUE=DATE:20251009
DTEND;VALUE=DATE:20251012
DTSTAMP:20260424T231029
CREATED:20250422T135059Z
LAST-MODIFIED:20250422T183613Z
UID:2593-1759968000-1760227199@derm.cz
SUMMARY:Lymfo 2025: Lymfologie v otázkách a odpovědích
DESCRIPTION:Místo konání: Brno\, Hotel International \nDélka trvání: 3 dny \nPořadatel: Lymfologická společnost ČLS JEP \nOdborný garant: MUDr. Věra Pavlasová \nKontakt: www.lympho.cz
URL:https://derm.cz/udalost/lymfo-2025-lymfologie-v-otazkach-a-odpovedich/
ATTACH;FMTTYPE=image/webp:https://derm.cz/wp-content/uploads/2025/04/calendar_placeholder_16_10.webp
END:VEVENT
END:VCALENDAR