BEGIN:VCALENDAR
VERSION:2.0
PRODID:-//ČDS - ECPv6.15.19//NONSGML v1.0//EN
CALSCALE:GREGORIAN
METHOD:PUBLISH
X-WR-CALNAME:ČDS
X-ORIGINAL-URL:https://derm.cz
X-WR-CALDESC:Akce na ČDS
REFRESH-INTERVAL;VALUE=DURATION:PT1H
X-Robots-Tag:noindex
X-PUBLISHED-TTL:PT1H
BEGIN:VTIMEZONE
TZID:Europe/Prague
BEGIN:DAYLIGHT
TZOFFSETFROM:+0100
TZOFFSETTO:+0200
TZNAME:CEST
DTSTART:20240331T010000
END:DAYLIGHT
BEGIN:STANDARD
TZOFFSETFROM:+0200
TZOFFSETTO:+0100
TZNAME:CET
DTSTART:20241027T010000
END:STANDARD
BEGIN:DAYLIGHT
TZOFFSETFROM:+0100
TZOFFSETTO:+0200
TZNAME:CEST
DTSTART:20250330T010000
END:DAYLIGHT
BEGIN:STANDARD
TZOFFSETFROM:+0200
TZOFFSETTO:+0100
TZNAME:CET
DTSTART:20251026T010000
END:STANDARD
BEGIN:DAYLIGHT
TZOFFSETFROM:+0100
TZOFFSETTO:+0200
TZNAME:CEST
DTSTART:20260329T010000
END:DAYLIGHT
BEGIN:STANDARD
TZOFFSETFROM:+0200
TZOFFSETTO:+0100
TZNAME:CET
DTSTART:20261025T010000
END:STANDARD
END:VTIMEZONE
BEGIN:VEVENT
DTSTART;VALUE=DATE:20250425
DTEND;VALUE=DATE:20250427
DTSTAMP:20260425T023840
CREATED:20250422T131318Z
LAST-MODIFIED:20250422T183614Z
UID:2550-1745539200-1745711999@derm.cz
SUMMARY:Jarní škola dermatohistopatologie
DESCRIPTION:JARNÍ ŠKOLA DERMATOHISTOPATOLOGIE \nMísto konání: Plzeň\, Bioptická laboratoř\nDélka trvání: 2 dny – 25. – 26. 4. 2025 (od 16 hod)\nPořadatel: Česká akademie dermatovenerologie zs\, Bioptická laboratoř sro \nOdborný garant: prof. MUDr. Denisa Kacerovská\, Ph.D.\, prof. MUDr. Jana Třešňák Hercogová\, CSC.\, MHA\, IFAAD\, prof. MUDr. Michal Michal\, CSc. \nKontakt: cadv@dermanet.eu\, www.dermanet.eu
URL:https://derm.cz/udalost/jarni-skola-dermatohistopatologie/
LOCATION:Bioptická laboratoř\, Plzeň
ATTACH;FMTTYPE=image/webp:https://derm.cz/wp-content/uploads/2025/04/calendar_placeholder_16_10.webp
END:VEVENT
END:VCALENDAR