BEGIN:VCALENDAR
VERSION:2.0
PRODID:-//ČDS - ECPv6.15.19//NONSGML v1.0//EN
CALSCALE:GREGORIAN
METHOD:PUBLISH
X-WR-CALNAME:ČDS
X-ORIGINAL-URL:https://derm.cz
X-WR-CALDESC:Akce na ČDS
REFRESH-INTERVAL;VALUE=DURATION:PT1H
X-Robots-Tag:noindex
X-PUBLISHED-TTL:PT1H
BEGIN:VTIMEZONE
TZID:Europe/Prague
BEGIN:DAYLIGHT
TZOFFSETFROM:+0100
TZOFFSETTO:+0200
TZNAME:CEST
DTSTART:20240331T010000
END:DAYLIGHT
BEGIN:STANDARD
TZOFFSETFROM:+0200
TZOFFSETTO:+0100
TZNAME:CET
DTSTART:20241027T010000
END:STANDARD
BEGIN:DAYLIGHT
TZOFFSETFROM:+0100
TZOFFSETTO:+0200
TZNAME:CEST
DTSTART:20250330T010000
END:DAYLIGHT
BEGIN:STANDARD
TZOFFSETFROM:+0200
TZOFFSETTO:+0100
TZNAME:CET
DTSTART:20251026T010000
END:STANDARD
BEGIN:DAYLIGHT
TZOFFSETFROM:+0100
TZOFFSETTO:+0200
TZNAME:CEST
DTSTART:20260329T010000
END:DAYLIGHT
BEGIN:STANDARD
TZOFFSETFROM:+0200
TZOFFSETTO:+0100
TZNAME:CET
DTSTART:20261025T010000
END:STANDARD
END:VTIMEZONE
BEGIN:VEVENT
DTSTART;TZID=Europe/Prague:20250925T080000
DTEND;TZID=Europe/Prague:20250925T170000
DTSTAMP:20260425T004719
CREATED:20250422T134924Z
LAST-MODIFIED:20250512T184921Z
UID:2589-1758787200-1758819600@derm.cz
SUMMARY:Izotretinoin v Praxi 2 - Praha
DESCRIPTION:Místo konání: Praha \nDélka trvání: 4 hodiny \nPořadatel: Pracovní skupina pro akné a obličejové dermatózy \nOdborný garant: MUDr. Zuzana Nevoralová\, Ph.D. \nkontakt: znevoralova@atlas.cz
URL:https://derm.cz/udalost/izotretinoin-v-praxi-2-praha/
ATTACH;FMTTYPE=image/webp:https://derm.cz/wp-content/uploads/2024/12/logo_re_oswald-2.webp
END:VEVENT
END:VCALENDAR