BEGIN:VCALENDAR
VERSION:2.0
PRODID:-//ČDS - ECPv6.15.19//NONSGML v1.0//EN
CALSCALE:GREGORIAN
METHOD:PUBLISH
X-WR-CALNAME:ČDS
X-ORIGINAL-URL:https://derm.cz
X-WR-CALDESC:Akce na ČDS
REFRESH-INTERVAL;VALUE=DURATION:PT1H
X-Robots-Tag:noindex
X-PUBLISHED-TTL:PT1H
BEGIN:VTIMEZONE
TZID:Europe/Prague
BEGIN:DAYLIGHT
TZOFFSETFROM:+0100
TZOFFSETTO:+0200
TZNAME:CEST
DTSTART:20240331T010000
END:DAYLIGHT
BEGIN:STANDARD
TZOFFSETFROM:+0200
TZOFFSETTO:+0100
TZNAME:CET
DTSTART:20241027T010000
END:STANDARD
BEGIN:DAYLIGHT
TZOFFSETFROM:+0100
TZOFFSETTO:+0200
TZNAME:CEST
DTSTART:20250330T010000
END:DAYLIGHT
BEGIN:STANDARD
TZOFFSETFROM:+0200
TZOFFSETTO:+0100
TZNAME:CET
DTSTART:20251026T010000
END:STANDARD
BEGIN:DAYLIGHT
TZOFFSETFROM:+0100
TZOFFSETTO:+0200
TZNAME:CEST
DTSTART:20260329T010000
END:DAYLIGHT
BEGIN:STANDARD
TZOFFSETFROM:+0200
TZOFFSETTO:+0100
TZNAME:CET
DTSTART:20261025T010000
END:STANDARD
END:VTIMEZONE
BEGIN:VEVENT
DTSTART;VALUE=DATE:20251118
DTEND;VALUE=DATE:20251122
DTSTAMP:20260424T225931
CREATED:20250414T164303Z
LAST-MODIFIED:20250512T191757Z
UID:2375-1763424000-1763769599@derm.cz
SUMMARY:Euroderm Excellence - kurz pro rezidenty\, Řím\, listopad 2025
DESCRIPTION:🎓 EDF Euroderm Excellence 2025 – Přihlas se!📅 18.–21. listopadu 2025📍 Řím\, Itálie \n\n\nročník prestižního evropského vzdělávacího programu pro rezidenty v dermatologii je tu! Pokud jsi v posledním roce specializační přípravy\, máš jedinečnou možnost být vybrán mezi nejlepší evropské rezidenty a zúčastnit se tohoto intenzivního školení pod vedením předních odborníků. \n\n\n👉 Tématem letošního ročníku je „Dermatologie zítřka“📌 Ubytování\, stravování a program jsou hrazeny (nezahrnuje cestovní náklady).📝 Přihlas se do 30. června 2025 přes www.eurodermexcellence.com \nNepropásni šanci reprezentovat Česko na prestižním mezinárodním fóru! \n \nLeták ke stažení: \neuroderm_flyer_2025
URL:https://derm.cz/udalost/euroderm-excellence-kurz-pro-rezidenty-rim-18-21-11-2025/
LOCATION:A.ROMA LIFESTYLE HOTEL ROME\, Via Giorgio Zoega\, 59\, Rome\, 00164\, Italy
ATTACH;FMTTYPE=image/webp:https://derm.cz/wp-content/uploads/2025/04/calendar_placeholder_16_10.webp
END:VEVENT
END:VCALENDAR