BEGIN:VCALENDAR
VERSION:2.0
PRODID:-//ČDS - ECPv6.15.19//NONSGML v1.0//EN
CALSCALE:GREGORIAN
METHOD:PUBLISH
X-WR-CALNAME:ČDS
X-ORIGINAL-URL:https://derm.cz
X-WR-CALDESC:Akce na ČDS
REFRESH-INTERVAL;VALUE=DURATION:PT1H
X-Robots-Tag:noindex
X-PUBLISHED-TTL:PT1H
BEGIN:VTIMEZONE
TZID:Europe/Prague
BEGIN:DAYLIGHT
TZOFFSETFROM:+0100
TZOFFSETTO:+0200
TZNAME:CEST
DTSTART:20240331T010000
END:DAYLIGHT
BEGIN:STANDARD
TZOFFSETFROM:+0200
TZOFFSETTO:+0100
TZNAME:CET
DTSTART:20241027T010000
END:STANDARD
BEGIN:DAYLIGHT
TZOFFSETFROM:+0100
TZOFFSETTO:+0200
TZNAME:CEST
DTSTART:20250330T010000
END:DAYLIGHT
BEGIN:STANDARD
TZOFFSETFROM:+0200
TZOFFSETTO:+0100
TZNAME:CET
DTSTART:20251026T010000
END:STANDARD
BEGIN:DAYLIGHT
TZOFFSETFROM:+0100
TZOFFSETTO:+0200
TZNAME:CEST
DTSTART:20260329T010000
END:DAYLIGHT
BEGIN:STANDARD
TZOFFSETFROM:+0200
TZOFFSETTO:+0100
TZNAME:CET
DTSTART:20261025T010000
END:STANDARD
END:VTIMEZONE
BEGIN:VEVENT
DTSTART;TZID=Europe/Prague:20250122T090000
DTEND;TZID=Europe/Prague:20250122T160000
DTSTAMP:20260425T021329
CREATED:20241217T200433Z
LAST-MODIFIED:20250422T183614Z
UID:471-1737536400-1737561600@derm.cz
SUMMARY:Dermatoonkologická škola 22. 1. 2025
DESCRIPTION:Dermatoskopická sekce České dermatovenerologické společnosti ČLS JEP\, z.s.\, a Onkologická klinika 2. LF a FN Motol\nVás zve na odbornou akci s názvem: \nDermatoonkologická škola \nTermín: středa 22. 1. 2025\, 9:00–16:00\nMísto: Velká posluchárna FN Motol\, V Úvalu 84\, 150 06 Praha 5 \nOdborní garanti:\nProf. MUDr. Monika Arenbergerová\, Ph.D.\nProf. MUDr. Tomáš Bíchler\, Ph.D. \nKonference je pořádána dle Stavovského předpisu ČLK č. 16 jako akce celoživotního vzdělávání a bude ohodnocena příslušným počtem kreditů.\nÚčastníci na závěr obdrží certifikát o absolvování dermatoonkologické vzdělávací akce. \nRegistrace: www.jasta.cz
URL:https://derm.cz/udalost/dermatoonkologicka-skola-22-1-2025/
ATTACH;FMTTYPE=image/png:https://derm.cz/wp-content/uploads/2024/12/Screenshot-2024-12-17-205658.png
END:VEVENT
END:VCALENDAR