BEGIN:VCALENDAR
VERSION:2.0
PRODID:-//ČDS - ECPv6.15.19//NONSGML v1.0//EN
CALSCALE:GREGORIAN
METHOD:PUBLISH
X-WR-CALNAME:ČDS
X-ORIGINAL-URL:https://derm.cz
X-WR-CALDESC:Akce na ČDS
REFRESH-INTERVAL;VALUE=DURATION:PT1H
X-Robots-Tag:noindex
X-PUBLISHED-TTL:PT1H
BEGIN:VTIMEZONE
TZID:Europe/Prague
BEGIN:DAYLIGHT
TZOFFSETFROM:+0100
TZOFFSETTO:+0200
TZNAME:CEST
DTSTART:20250330T010000
END:DAYLIGHT
BEGIN:STANDARD
TZOFFSETFROM:+0200
TZOFFSETTO:+0100
TZNAME:CET
DTSTART:20251026T010000
END:STANDARD
BEGIN:DAYLIGHT
TZOFFSETFROM:+0100
TZOFFSETTO:+0200
TZNAME:CEST
DTSTART:20260329T010000
END:DAYLIGHT
BEGIN:STANDARD
TZOFFSETFROM:+0200
TZOFFSETTO:+0100
TZNAME:CET
DTSTART:20261025T010000
END:STANDARD
BEGIN:DAYLIGHT
TZOFFSETFROM:+0100
TZOFFSETTO:+0200
TZNAME:CEST
DTSTART:20270328T010000
END:DAYLIGHT
BEGIN:STANDARD
TZOFFSETFROM:+0200
TZOFFSETTO:+0100
TZNAME:CET
DTSTART:20271031T010000
END:STANDARD
END:VTIMEZONE
BEGIN:VEVENT
DTSTART;TZID=Europe/Prague:20260414T080000
DTEND;TZID=Europe/Prague:20260414T160000
DTSTAMP:20260424T195140
CREATED:20260120T082643Z
LAST-MODIFIED:20260120T082647Z
UID:4086-1776153600-1776182400@derm.cz
SUMMARY:3. kongres moderní dermatovenerologie
DESCRIPTION:Délka trvání: 8 hodin \nMísto konání: Hotel Diplomat\, Praha \nPořadatel: Corbiere\, s.r.o. ve spolupráci s Dermatovenerologickou kliniku FNKV \nOdborný garant: prof. MUDr. Spyridon Gkalpakiotis\, PhD.\, MBA\, IFAAD \nKontakt: spyros@centrum.cz\, kudr@corbiere.cz
URL:https://derm.cz/udalost/3-kongres-moderni-dermatovenerologie/
ATTACH;FMTTYPE=image/webp:https://derm.cz/wp-content/uploads/2025/04/calendar_placeholder_16_10.webp
END:VEVENT
END:VCALENDAR