BEGIN:VCALENDAR
VERSION:2.0
PRODID:-//ČDS - ECPv6.15.19//NONSGML v1.0//EN
CALSCALE:GREGORIAN
METHOD:PUBLISH
X-WR-CALNAME:ČDS
X-ORIGINAL-URL:https://derm.cz
X-WR-CALDESC:Akce na ČDS
REFRESH-INTERVAL;VALUE=DURATION:PT1H
X-Robots-Tag:noindex
X-PUBLISHED-TTL:PT1H
BEGIN:VTIMEZONE
TZID:Europe/Prague
BEGIN:DAYLIGHT
TZOFFSETFROM:+0100
TZOFFSETTO:+0200
TZNAME:CEST
DTSTART:20240331T010000
END:DAYLIGHT
BEGIN:STANDARD
TZOFFSETFROM:+0200
TZOFFSETTO:+0100
TZNAME:CET
DTSTART:20241027T010000
END:STANDARD
BEGIN:DAYLIGHT
TZOFFSETFROM:+0100
TZOFFSETTO:+0200
TZNAME:CEST
DTSTART:20250330T010000
END:DAYLIGHT
BEGIN:STANDARD
TZOFFSETFROM:+0200
TZOFFSETTO:+0100
TZNAME:CET
DTSTART:20251026T010000
END:STANDARD
BEGIN:DAYLIGHT
TZOFFSETFROM:+0100
TZOFFSETTO:+0200
TZNAME:CEST
DTSTART:20260329T010000
END:DAYLIGHT
BEGIN:STANDARD
TZOFFSETFROM:+0200
TZOFFSETTO:+0100
TZNAME:CET
DTSTART:20261025T010000
END:STANDARD
END:VTIMEZONE
BEGIN:VEVENT
DTSTART;VALUE=DATE:20250529
DTEND;VALUE=DATE:20250530
DTSTAMP:20260425T134013
CREATED:20250422T133716Z
LAST-MODIFIED:20250422T183613Z
UID:2560-1748476800-1748563199@derm.cz
SUMMARY:5. sympozium kazuistik
DESCRIPTION:Místo konání: Pavilon Grébovka\, Praha \nDélka trvání: 4 hodiny \nPořadatel: Farmakonpress\, spol. s.r.o. ve spolupráci s Dermatovenerologickou kliniku FNKV \nOdborný garant: prof. MUDr. Spyridon Gkalpakiotis\, PhD.\, MBA\, IFAAD \nKontakt: spyros@centrum.cz
URL:https://derm.cz/udalost/5-sympozium-kazuistik/
LOCATION:Pavilon Grébovka\, Praha\, Czech Republic
ATTACH;FMTTYPE=image/webp:https://derm.cz/wp-content/uploads/2025/04/calendar_placeholder_16_10.webp
END:VEVENT
BEGIN:VEVENT
DTSTART;VALUE=DATE:20250522
DTEND;VALUE=DATE:20250525
DTSTAMP:20260425T134013
CREATED:20250422T133528Z
LAST-MODIFIED:20250521T181854Z
UID:2558-1747872000-1748131199@derm.cz
SUMMARY:EADV symposium 2025 Praha
DESCRIPTION:Program je k dispozici na adrese: https://eadvapps.m-anage.com/eadvsymposium2025/en-GB/pag?grade=scientific
URL:https://derm.cz/udalost/eadv-symposium-2025-praha/
ATTACH;FMTTYPE=image/png:https://derm.cz/wp-content/uploads/2025/05/EADV-Logo-RGB_square.png
END:VEVENT
BEGIN:VEVENT
DTSTART;VALUE=DATE:20250519
DTEND;VALUE=DATE:20250521
DTSTAMP:20260425T134013
CREATED:20250422T133356Z
LAST-MODIFIED:20250512T192036Z
UID:2555-1747612800-1747785599@derm.cz
SUMMARY:Certifikovaný kurz pro centra biologické léčby
DESCRIPTION:Certifikovaný kurz pro centra biologické léčby \nMísto konání: Praha \nDélka trvání: 10 hodin \nPořadatel: ČDS ČLS JEP \nOdborný garant: prof. MUDr. Petr Arenberger\, DrSc.\, MBA\, FCMA \nKontakt: derma.assistant@gmail.com \n  \nDetailní informace a program \nKurz biologické léčby\, IPVZ Praha\, 19.-20.5.2025
URL:https://derm.cz/udalost/certifikovany-kurz-pro-centra-biologicke-lecby/
ATTACH;FMTTYPE=image/webp:https://derm.cz/wp-content/uploads/2025/04/calendar_placeholder_16_10.webp
END:VEVENT
BEGIN:VEVENT
DTSTART;VALUE=DATE:20250425
DTEND;VALUE=DATE:20250427
DTSTAMP:20260425T134013
CREATED:20250422T131318Z
LAST-MODIFIED:20250422T183614Z
UID:2550-1745539200-1745711999@derm.cz
SUMMARY:Jarní škola dermatohistopatologie
DESCRIPTION:JARNÍ ŠKOLA DERMATOHISTOPATOLOGIE \nMísto konání: Plzeň\, Bioptická laboratoř\nDélka trvání: 2 dny – 25. – 26. 4. 2025 (od 16 hod)\nPořadatel: Česká akademie dermatovenerologie zs\, Bioptická laboratoř sro \nOdborný garant: prof. MUDr. Denisa Kacerovská\, Ph.D.\, prof. MUDr. Jana Třešňák Hercogová\, CSC.\, MHA\, IFAAD\, prof. MUDr. Michal Michal\, CSc. \nKontakt: cadv@dermanet.eu\, www.dermanet.eu
URL:https://derm.cz/udalost/jarni-skola-dermatohistopatologie/
LOCATION:Bioptická laboratoř\, Plzeň
ATTACH;FMTTYPE=image/webp:https://derm.cz/wp-content/uploads/2025/04/calendar_placeholder_16_10.webp
END:VEVENT
BEGIN:VEVENT
DTSTART;VALUE=DATE:20250424
DTEND;VALUE=DATE:20250425
DTSTAMP:20260425T134013
CREATED:20250220T193833Z
LAST-MODIFIED:20250422T183614Z
UID:1589-1745452800-1745539199@derm.cz
SUMMARY:18. Západočeský dermatovenerologický seminář
DESCRIPTION:Konference dle Stavovského předpisu ČLK č. 16. Registrace na www.teoconsulting.cz. Kapacita akce je omezena.
URL:https://derm.cz/udalost/18-zapadocesky-dermatovenerologicky-seminar/
LOCATION:Vienna House Easy Wyndham Pilsen\, U Prazdroje 6\, Plzeň\, Czech Republic
ATTACH;FMTTYPE=image/png:https://derm.cz/wp-content/uploads/2025/02/18.-Zapadocesky-dermatovenerologicky-seminar.png
END:VEVENT
BEGIN:VEVENT
DTSTART;VALUE=DATE:20250408
DTEND;VALUE=DATE:20250409
DTSTAMP:20260425T134013
CREATED:20241217T194923Z
LAST-MODIFIED:20250422T183614Z
UID:462-1744070400-1744156799@derm.cz
SUMMARY:2. Kongres moderní dermatovenerologie
DESCRIPTION:Srdečně Vás zveme na 2. kongres moderní dermatovenerologie \n8. 4. 2025 v Hotelu Diplomat v Praze \nOdborný garant kongresu: prof. MUDr. Spyridon Gkalpakiotis\, Ph.D.\, MBA \nPřednšky budou zamřeny na nejnovjší poznatky v léčby psoriázy\, atopické dermatitidy\, akné a onemocnění vlasů.\nDále se budeme věnovat tématům z oblasti dětské dermatovenerologie a venerologie. \nTěšíme se na společné setkání!
URL:https://derm.cz/udalost/2-kongres-moderni-dermatovenerologie/
ATTACH;FMTTYPE=image/png:https://derm.cz/wp-content/uploads/2024/12/Screenshot-2024-12-17-204226.png
END:VEVENT
BEGIN:VEVENT
DTSTART;VALUE=DATE:20250205
DTEND;VALUE=DATE:20250206
DTSTAMP:20260425T134013
CREATED:20241217T195404Z
LAST-MODIFIED:20250422T183614Z
UID:467-1738713600-1738799999@derm.cz
SUMMARY:13. Dermatologický update aneb Novinky v dermatologii
DESCRIPTION:Česká dermatovenerologická společnost ČLS JEP\, z.s.\,\nvás zve na \n13. Dermatologický update 2025 \naneb\nNovinky v dermatologii \nRegistrace na www.jasta.cz
URL:https://derm.cz/udalost/13-dermatologicky-update-aneb-novinky-v-dermatologii/
ATTACH;FMTTYPE=image/png:https://derm.cz/wp-content/uploads/2024/12/Screenshot-2024-12-17-205125.png
END:VEVENT
BEGIN:VEVENT
DTSTART;TZID=Europe/Prague:20250122T090000
DTEND;TZID=Europe/Prague:20250122T160000
DTSTAMP:20260425T134013
CREATED:20241217T200433Z
LAST-MODIFIED:20250422T183614Z
UID:471-1737536400-1737561600@derm.cz
SUMMARY:Dermatoonkologická škola 22. 1. 2025
DESCRIPTION:Dermatoskopická sekce České dermatovenerologické společnosti ČLS JEP\, z.s.\, a Onkologická klinika 2. LF a FN Motol\nVás zve na odbornou akci s názvem: \nDermatoonkologická škola \nTermín: středa 22. 1. 2025\, 9:00–16:00\nMísto: Velká posluchárna FN Motol\, V Úvalu 84\, 150 06 Praha 5 \nOdborní garanti:\nProf. MUDr. Monika Arenbergerová\, Ph.D.\nProf. MUDr. Tomáš Bíchler\, Ph.D. \nKonference je pořádána dle Stavovského předpisu ČLK č. 16 jako akce celoživotního vzdělávání a bude ohodnocena příslušným počtem kreditů.\nÚčastníci na závěr obdrží certifikát o absolvování dermatoonkologické vzdělávací akce. \nRegistrace: www.jasta.cz
URL:https://derm.cz/udalost/dermatoonkologicka-skola-22-1-2025/
ATTACH;FMTTYPE=image/png:https://derm.cz/wp-content/uploads/2024/12/Screenshot-2024-12-17-205658.png
END:VEVENT
BEGIN:VEVENT
DTSTART;VALUE=DATE:20250110
DTEND;VALUE=DATE:20250113
DTSTAMP:20260425T134013
CREATED:20241217T193911Z
LAST-MODIFIED:20250422T183614Z
UID:455-1736467200-1736726399@derm.cz
SUMMARY:27. Lipovské dny - Lipovské dermatovenerologické fórum 2025
DESCRIPTION:Pořádá: Česká dermatovenerologická společnost ČLS JEP a Schrothovy léčebné lázně s.r.o. \nGarant: doc. MUDr. Karel Ettler\, CSc. a prim. MUDr. Lubomír Drlík \n  \nMísto konání: prostory Schrothových lázní\, Dolní Lipová č. p. 382\, 790 61 Lipová-lázně \nKonferenční poplatek: 3000\,- Kč včetně ubytování a stravy (2 noci 10. – 12. 1. 2025)\, další osoba 2500\,- Kč\, dítě do 12 let 1200\,- Kč. \n  \n  \nRegistrace do: 31. 12. 2024 \nJeště volná místa\, možnost doprovodu celé rodiny (i dětí)\,  \npobyt lze zahájit již 9.1.2025 \n  \nKontakt: \nwww.lazne-lipova.cz \ntel. +420 770 137 011
URL:https://derm.cz/udalost/27-lipovske-dny-lipovske-dermatovenerologicke-forum-2025/
ATTACH;FMTTYPE=image/png:https://derm.cz/wp-content/uploads/2024/12/Screenshot-2024-12-17-204240.png
END:VEVENT
END:VCALENDAR