BEGIN:VCALENDAR
VERSION:2.0
PRODID:-//ČDS - ECPv6.15.19//NONSGML v1.0//EN
CALSCALE:GREGORIAN
METHOD:PUBLISH
X-WR-CALNAME:ČDS
X-ORIGINAL-URL:https://derm.cz
X-WR-CALDESC:Akce na ČDS
REFRESH-INTERVAL;VALUE=DURATION:PT1H
X-Robots-Tag:noindex
X-PUBLISHED-TTL:PT1H
BEGIN:VTIMEZONE
TZID:Europe/Prague
BEGIN:DAYLIGHT
TZOFFSETFROM:+0100
TZOFFSETTO:+0200
TZNAME:CEST
DTSTART:20250330T010000
END:DAYLIGHT
BEGIN:STANDARD
TZOFFSETFROM:+0200
TZOFFSETTO:+0100
TZNAME:CET
DTSTART:20251026T010000
END:STANDARD
BEGIN:DAYLIGHT
TZOFFSETFROM:+0100
TZOFFSETTO:+0200
TZNAME:CEST
DTSTART:20260329T010000
END:DAYLIGHT
BEGIN:STANDARD
TZOFFSETFROM:+0200
TZOFFSETTO:+0100
TZNAME:CET
DTSTART:20261025T010000
END:STANDARD
BEGIN:DAYLIGHT
TZOFFSETFROM:+0100
TZOFFSETTO:+0200
TZNAME:CEST
DTSTART:20270328T010000
END:DAYLIGHT
BEGIN:STANDARD
TZOFFSETFROM:+0200
TZOFFSETTO:+0100
TZNAME:CET
DTSTART:20271031T010000
END:STANDARD
END:VTIMEZONE
BEGIN:VEVENT
DTSTART;VALUE=DATE:20260911
DTEND;VALUE=DATE:20260913
DTSTAMP:20260425T163759
CREATED:20260121T131811Z
LAST-MODIFIED:20260121T131855Z
UID:4129-1789084800-1789257599@derm.cz
SUMMARY:29. setkání primářů dermatovenerologických odd. Mariánské Lázně
DESCRIPTION:Místo konání: Mariánské Lázně \nDélka trvání: 6 hodin \nPořadatel: Kožní odd. NsP Karlovy Vary \nOdborný garant: prim. MUDr. Tomáš Pospíšil
URL:https://derm.cz/udalost/29-setkani-primaru-dermatovenerologickych-odd-marianske-lazne/
ATTACH;FMTTYPE=image/webp:https://derm.cz/wp-content/uploads/2025/04/calendar_placeholder_16_10.webp
END:VEVENT
BEGIN:VEVENT
DTSTART;VALUE=DATE:20260917
DTEND;VALUE=DATE:20260918
DTSTAMP:20260425T163759
CREATED:20260121T131518Z
LAST-MODIFIED:20260121T131518Z
UID:4127-1789603200-1789689599@derm.cz
SUMMARY:Kazuistický seminář Ostrava
DESCRIPTION:Místo konání: posluchárna Domova sester\, FN Ostrava \nDélka trvání: 3 hodiny \nPořadatel: Kožní oddělení FN Ostrava \nOdborný garant: prim. MUDr. Yvetta Vantuchová\, Ph.D. \nKontakt: jana.glettova@fno.cz
URL:https://derm.cz/udalost/kazuisticky-seminar-ostrava-2/
ATTACH;FMTTYPE=image/webp:https://derm.cz/wp-content/uploads/2025/04/calendar_placeholder_16_10.webp
END:VEVENT
BEGIN:VEVENT
DTSTART;VALUE=DATE:20260918
DTEND;VALUE=DATE:20260919
DTSTAMP:20260425T163759
CREATED:20260121T132058Z
LAST-MODIFIED:20260121T132058Z
UID:4131-1789689600-1789775999@derm.cz
SUMMARY:3. Multioborové setkání dermatovenerologů se segmentem primární péče Praha
DESCRIPTION:Místo konání: Praha \nDélka trvání: 8 hodin \nPořadatel: Farmakonpress \nOdborný garant: doc. MUDr. Miloslav Salavec\, CSc. \nKontakt: stepanovsky@farmakonpress.cz
URL:https://derm.cz/udalost/3-multioborove-setkani-dermatovenerologu-se-segmentem-primarni-pece-praha/
ATTACH;FMTTYPE=image/webp:https://derm.cz/wp-content/uploads/2025/04/calendar_placeholder_16_10.webp
END:VEVENT
BEGIN:VEVENT
DTSTART;VALUE=DATE:20260930
DTEND;VALUE=DATE:20261004
DTSTAMP:20260425T163759
CREATED:20260121T132416Z
LAST-MODIFIED:20260219T221941Z
UID:4133-1790726400-1791071999@derm.cz
SUMMARY:Congress EADV Vienna - Together for better
DESCRIPTION:Vídeň\, Rakousko
URL:https://derm.cz/udalost/congress-eadv-viden-together-for-better/
ATTACH;FMTTYPE=image/webp:https://derm.cz/wp-content/uploads/2025/04/calendar_placeholder_16_10.webp
END:VEVENT
BEGIN:VEVENT
DTSTART;VALUE=DATE:20261007
DTEND;VALUE=DATE:20261009
DTSTAMP:20260425T163759
CREATED:20260121T132628Z
LAST-MODIFIED:20260412T064953Z
UID:4135-1791331200-1791503999@derm.cz
SUMMARY:Hradecké dermatovenerologické dny
DESCRIPTION:Místo konání: Hradec Králové \nDélka trvání: 2 dny \nPořadatel: Klinika nemocí kožních a pohlavních\, FN a LF UK v Hradci Králové \nOdborný garant: prof. MUDr. Jarmila Čelakovská\, Ph.D. \nKontakt: www.signify.cz \nHDVD 2026
URL:https://derm.cz/udalost/hradecke-dermatovenerologicke-dny-2/
ATTACH;FMTTYPE=image/webp:https://derm.cz/wp-content/uploads/2025/04/calendar_placeholder_16_10.webp
END:VEVENT
BEGIN:VEVENT
DTSTART;VALUE=DATE:20261014
DTEND;VALUE=DATE:20261018
DTSTAMP:20260425T163759
CREATED:20260121T133028Z
LAST-MODIFIED:20260121T133028Z
UID:4137-1791936000-1792281599@derm.cz
SUMMARY:27th World and European congress IUSTI Praha
DESCRIPTION:Congress of the international union against sexually  transmitted infections – \nShaping the Future of STI ₰ HIV Prevention and Care \nPrague Congress Centre \nKontakt: iusti2026@guarant.cz\, +420 284001444 \n 
URL:https://derm.cz/udalost/27th-world-and-european-congress-iusti-praha/
ATTACH;FMTTYPE=image/webp:https://derm.cz/wp-content/uploads/2025/04/calendar_placeholder_16_10.webp
END:VEVENT
BEGIN:VEVENT
DTSTART;VALUE=DATE:20261016
DTEND;VALUE=DATE:20261017
DTSTAMP:20260425T163759
CREATED:20260121T133302Z
LAST-MODIFIED:20260121T133302Z
UID:4139-1792108800-1792195199@derm.cz
SUMMARY:Konference dětské dermatologie Praha
DESCRIPTION:Délka trvání: 8 hodin \nPořadatel: Pracovní skupina pro dětskou dermatologii ČDS ČLS JEP \nKontakt: pinkova.blanka@fnbrno.cz\, detska-dermatologie.cz \nOdborný garant: prim.  MUDr. Blanka Pinková\, Ph.D.
URL:https://derm.cz/udalost/konference-detske-dermatologie-praha/
ATTACH;FMTTYPE=image/webp:https://derm.cz/wp-content/uploads/2025/04/calendar_placeholder_16_10.webp
END:VEVENT
BEGIN:VEVENT
DTSTART;VALUE=DATE:20261016
DTEND;VALUE=DATE:20261017
DTSTAMP:20260425T163759
CREATED:20260121T133606Z
LAST-MODIFIED:20260121T133606Z
UID:4141-1792108800-1792195199@derm.cz
SUMMARY:Konference dětské dermatologie Praha
DESCRIPTION:Délka trvání: 8 hodin \nPořadatel: Pracovní skupina pro dětskou dermatologii ČDS ČLS JEP \nKontakt: pinkova.blanka@fnbrno.cz\, detska-dermatologie.cz \nOdborný garant: prim.  MUDr. Blanka Pinková\, Ph.D.
URL:https://derm.cz/udalost/konference-detske-dermatologie-praha-2/
ATTACH;FMTTYPE=image/webp:https://derm.cz/wp-content/uploads/2025/04/calendar_placeholder_16_10.webp
END:VEVENT
BEGIN:VEVENT
DTSTART;VALUE=DATE:20261104
DTEND;VALUE=DATE:20261105
DTSTAMP:20260425T163759
CREATED:20260219T222328Z
LAST-MODIFIED:20260219T222328Z
UID:4206-1793750400-1793836799@derm.cz
SUMMARY:Večer dermatovenerologické kliniky a Oddělení klinické farmakologie v Plzni
DESCRIPTION:Místo konání: Plzeň\, Azurová posluchárna\, Unimec\, LF UK \nDélka trvání: 2 hodiny \nPořadatel: Spolek lékařů v Plzni a Dermatovenerologická klinika LF UK a FN Plzeň \nOdborný garant: prof. MUDr. Petra Cetkovská\, Ph.D. \nKontakt: kozniklinika@fnplzen.cz
URL:https://derm.cz/udalost/vecer-dermatovenerologicke-kliniky-a-oddeleni-klinicke-farmakologie-v-plzni/
ATTACH;FMTTYPE=image/webp:https://derm.cz/wp-content/uploads/2025/04/calendar_placeholder_16_10.webp
END:VEVENT
BEGIN:VEVENT
DTSTART;VALUE=DATE:20261106
DTEND;VALUE=DATE:20261107
DTSTAMP:20260425T163759
CREATED:20260121T133916Z
LAST-MODIFIED:20260121T133951Z
UID:4143-1793923200-1794009599@derm.cz
SUMMARY:Konference Akné a obličejové dermatózy Brno
DESCRIPTION:Délka trvání (počet hodin): 6 hodiny\nMísto konání: Brno\nPořadatel: Pracovní skupina pro akné a obličejové dermatózy ČDS ČLS JEP\nKontakt: znevoralova@atlas.cz\nOdborný garant: MUDr. Petr Arenberger\, DrSc.\, MBA\, FCM
URL:https://derm.cz/udalost/konference-akne-a-oblicejove-dermatozy-brno/
ATTACH;FMTTYPE=image/webp:https://derm.cz/wp-content/uploads/2025/04/calendar_placeholder_16_10.webp
END:VEVENT
BEGIN:VEVENT
DTSTART;VALUE=DATE:20261118
DTEND;VALUE=DATE:20261119
DTSTAMP:20260425T163759
CREATED:20260121T134422Z
LAST-MODIFIED:20260121T134422Z
UID:4145-1794960000-1795046399@derm.cz
SUMMARY:Regionální dermatovenerologický seminář Hradec Králové
DESCRIPTION:Místo konání: PETROF Gallery\, Hradec Králové\, Na Brně 2136/4 \nDélka trvání: 4 hodiny \nPořadatel: ČLS JEP a Klinika nemocí kožních a pohlavních LF UK \nOdborný garant: prof. MUDr. Jarmila Čelakovská\, Ph.D. \nKontakt: www.signify.cz
URL:https://derm.cz/udalost/regionalni-dermatovenerologicky-seminar-hradec-kralove-3/
ATTACH;FMTTYPE=image/webp:https://derm.cz/wp-content/uploads/2025/04/calendar_placeholder_16_10.webp
END:VEVENT
BEGIN:VEVENT
DTSTART;VALUE=DATE:20261119
DTEND;VALUE=DATE:20261120
DTSTAMP:20260425T163759
CREATED:20260121T142358Z
LAST-MODIFIED:20260121T142358Z
UID:4147-1795046400-1795132799@derm.cz
SUMMARY:Moravský kazuistický seminář Olomouc
DESCRIPTION:Délka trvání: 6 hodin \nMísto konání: Olomouc \nPořadatel: Klinika chorob kožních a pohlavních LF UP a FNOL \nOdborný garant: odb. as. MUDr. Martin Tichý\, Ph.D. \nKontakt: tichy.martin.jun@fnol.cz
URL:https://derm.cz/udalost/moravsky-kazuisticky-seminar-olomouc/
ATTACH;FMTTYPE=image/webp:https://derm.cz/wp-content/uploads/2025/04/calendar_placeholder_16_10.webp
END:VEVENT
BEGIN:VEVENT
DTSTART;VALUE=DATE:20261124
DTEND;VALUE=DATE:20261125
DTSTAMP:20260425T163759
CREATED:20260121T142625Z
LAST-MODIFIED:20260121T142625Z
UID:4149-1795478400-1795564799@derm.cz
SUMMARY:Setkání dermatovenerologů kraje Vysočina\, Jihlava
DESCRIPTION:Délka trvání (počet hodin): 3 hodiny\nMísto konání: Jihlava\nPořadatel: Kožní oddělení Nemocnice Jihlava + JIMEA\nKontakt: policarovam@nemji.cz\nOdborný garant: prim. MUDr. Marie Policarová \n 
URL:https://derm.cz/udalost/setkani-dermatovenerologu-kraje-vysocina-jihlava/
ATTACH;FMTTYPE=image/webp:https://derm.cz/wp-content/uploads/2025/04/calendar_placeholder_16_10.webp
END:VEVENT
BEGIN:VEVENT
DTSTART;VALUE=DATE:20261126
DTEND;VALUE=DATE:20261128
DTSTAMP:20260425T163759
CREATED:20260130T084008Z
LAST-MODIFIED:20260212T204804Z
UID:4167-1795651200-1795823999@derm.cz
SUMMARY:Trýbův dermatologický den\, Brno
DESCRIPTION:Místo konání: Hotel International\, Brno \nDélka trvání: 2 dny \nPořadatel: I. dermatovenerologická klinika FN u sv. Anny v Brně \nOdborný garant: prof. MUDr. Hana Jedličková\, Ph.D. \nKontakt: hana.jedlickova@fnusa.cz
URL:https://derm.cz/udalost/trybuv-dermatologicky-den-brno/
ATTACH;FMTTYPE=image/webp:https://derm.cz/wp-content/uploads/2025/04/calendar_placeholder_16_10.webp
END:VEVENT
BEGIN:VEVENT
DTSTART;TZID=Europe/Prague:20261126T080000
DTEND;TZID=Europe/Prague:20261126T170000
DTSTAMP:20260425T163759
CREATED:20260121T142752Z
LAST-MODIFIED:20260121T142752Z
UID:4151-1795680000-1795712400@derm.cz
SUMMARY:Kazuistický seminář Ostrava
DESCRIPTION:Místo konání: posluchárna Domova sester\, FN Ostrava \nDélka trvání: 3 hodiny \nPořadatel: Kožní oddělení FN Ostrava \nKontakt: jana.glettova@fno.cz \nOdborný garant: prim. MUDr. Yvetta Vantuchová\, Ph.D.
URL:https://derm.cz/udalost/kazuisticky-seminar-ostrava-3/
ATTACH;FMTTYPE=image/webp:https://derm.cz/wp-content/uploads/2025/04/calendar_placeholder_16_10.webp
END:VEVENT
BEGIN:VEVENT
DTSTART;VALUE=DATE:20261204
DTEND;VALUE=DATE:20261205
DTSTAMP:20260425T163759
CREATED:20260130T083238Z
LAST-MODIFIED:20260130T083238Z
UID:4165-1796342400-1796428799@derm.cz
SUMMARY:XVII. Mikulášská konference v Podještědí
DESCRIPTION:Místo konání: Liberec\, Kulturní centrum Vratislavice 101010 \nDélka trvání: 6 hodin \nPořadatel: Klinika nemocí kožních a pohlavních FN a LF UK v Hradci Králové a Everesta\, s.r.o. \nOdborný garant: doc. MUDr. Karel Ettler\, CSc. \nKontakt: Lenka.springlova@seznam.cz \n 
URL:https://derm.cz/udalost/xvii-mikulasska-konference-v-podjestedi-2/
ATTACH;FMTTYPE=image/webp:https://derm.cz/wp-content/uploads/2025/04/calendar_placeholder_16_10.webp
END:VEVENT
END:VCALENDAR