BEGIN:VCALENDAR
VERSION:2.0
PRODID:-//ČDS - ECPv6.15.19//NONSGML v1.0//EN
CALSCALE:GREGORIAN
METHOD:PUBLISH
X-WR-CALNAME:ČDS
X-ORIGINAL-URL:https://derm.cz
X-WR-CALDESC:Akce na ČDS
REFRESH-INTERVAL;VALUE=DURATION:PT1H
X-Robots-Tag:noindex
X-PUBLISHED-TTL:PT1H
BEGIN:VTIMEZONE
TZID:Europe/Prague
BEGIN:DAYLIGHT
TZOFFSETFROM:+0100
TZOFFSETTO:+0200
TZNAME:CEST
DTSTART:20240331T010000
END:DAYLIGHT
BEGIN:STANDARD
TZOFFSETFROM:+0200
TZOFFSETTO:+0100
TZNAME:CET
DTSTART:20241027T010000
END:STANDARD
BEGIN:DAYLIGHT
TZOFFSETFROM:+0100
TZOFFSETTO:+0200
TZNAME:CEST
DTSTART:20250330T010000
END:DAYLIGHT
BEGIN:STANDARD
TZOFFSETFROM:+0200
TZOFFSETTO:+0100
TZNAME:CET
DTSTART:20251026T010000
END:STANDARD
BEGIN:DAYLIGHT
TZOFFSETFROM:+0100
TZOFFSETTO:+0200
TZNAME:CEST
DTSTART:20260329T010000
END:DAYLIGHT
BEGIN:STANDARD
TZOFFSETFROM:+0200
TZOFFSETTO:+0100
TZNAME:CET
DTSTART:20261025T010000
END:STANDARD
BEGIN:DAYLIGHT
TZOFFSETFROM:+0100
TZOFFSETTO:+0200
TZNAME:CEST
DTSTART:20270328T010000
END:DAYLIGHT
BEGIN:STANDARD
TZOFFSETFROM:+0200
TZOFFSETTO:+0100
TZNAME:CET
DTSTART:20271031T010000
END:STANDARD
END:VTIMEZONE
BEGIN:VEVENT
DTSTART;VALUE=DATE:20260409
DTEND;VALUE=DATE:20260410
DTSTAMP:20260425T181811
CREATED:20260120T081032Z
LAST-MODIFIED:20260120T081035Z
UID:4080-1775692800-1775779199@derm.cz
SUMMARY:2020262102 Kurz - Dermatoskopie v praxi
DESCRIPTION:Místo konání: IPVZ Budějovická\, Budějovická 15\, 140 00Praha 4 \nPořadatel: Katedra dermatovenerologie IPVZ \nOdborný garant: doc. MUDr. Tomáš FIKRLE\, Ph.D. \nKontakt: ipvz
URL:https://derm.cz/udalost/2020262102-kurz-dermatoskopie-v-praxi/
ATTACH;FMTTYPE=image/webp:https://derm.cz/wp-content/uploads/2025/04/calendar_placeholder_16_10.webp
END:VEVENT
BEGIN:VEVENT
DTSTART;VALUE=DATE:20260327
DTEND;VALUE=DATE:20260401
DTSTAMP:20260425T181811
CREATED:20260120T080324Z
LAST-MODIFIED:20260120T080328Z
UID:4076-1774569600-1775001599@derm.cz
SUMMARY:Kongres AAD (Americké akademie dermatologie)
DESCRIPTION:Denver\, USA
URL:https://derm.cz/udalost/kongres-aad-americke-akademie-dermatologie/
ATTACH;FMTTYPE=image/webp:https://derm.cz/wp-content/uploads/2025/04/calendar_placeholder_16_10.webp
END:VEVENT
BEGIN:VEVENT
DTSTART;VALUE=DATE:20260327
DTEND;VALUE=DATE:20260329
DTSTAMP:20260425T181811
CREATED:20260315T082505Z
LAST-MODIFIED:20260315T082505Z
UID:4266-1774569600-1774742399@derm.cz
SUMMARY:On In Under Skin 2026
DESCRIPTION:Místo konání: Hotel Galant \nDélka trvání: 2 dny \nOdborný garant: Prim. MUDr. Bohumil Zálešák\, Ph.D.\, MHA
URL:https://derm.cz/udalost/on-in-under-skin-2026/
ATTACH;FMTTYPE=image/webp:https://derm.cz/wp-content/uploads/2025/04/calendar_placeholder_16_10.webp
END:VEVENT
BEGIN:VEVENT
DTSTART;VALUE=DATE:20260327
DTEND;VALUE=DATE:20260328
DTSTAMP:20260425T181811
CREATED:20260120T080617Z
LAST-MODIFIED:20260120T080638Z
UID:4078-1774569600-1774655999@derm.cz
SUMMARY:2020262101 Kurz - Dětská dermatovenerologie nejen pro dermatology: novorozenec v ambulanci
DESCRIPTION:Místo konání: IPVZ Budějovická\, Budějovická 15\, 140 00Praha 4 \nPořadatel: Katedra dermatovenerologie IPVZ \nOdborný garant: MUDr. Zuzana Plzáková\, Ph.D. \nKontakt: ipvz
URL:https://derm.cz/udalost/2020262101-kurz-detska-dermatovenerologie-nejen-pro-dermatology-novorozenec-v-ambulanci/
ATTACH;FMTTYPE=image/webp:https://derm.cz/wp-content/uploads/2025/04/calendar_placeholder_16_10.webp
END:VEVENT
BEGIN:VEVENT
DTSTART;VALUE=DATE:20260326
DTEND;VALUE=DATE:20260327
DTSTAMP:20260425T181811
CREATED:20260120T080116Z
LAST-MODIFIED:20260120T080122Z
UID:4074-1774483200-1774569599@derm.cz
SUMMARY:Globální den dermatologie - Denver\, USA
DESCRIPTION:
URL:https://derm.cz/udalost/globalni-den-dermatologie-denver-usa/
ATTACH;FMTTYPE=image/webp:https://derm.cz/wp-content/uploads/2025/04/calendar_placeholder_16_10.webp
END:VEVENT
BEGIN:VEVENT
DTSTART;VALUE=DATE:20260320
DTEND;VALUE=DATE:20260321
DTSTAMP:20260425T181811
CREATED:20260315T083032Z
LAST-MODIFIED:20260315T083249Z
UID:4268-1773964800-1774051199@derm.cz
SUMMARY:DERMASCOPE - dermatoskopický kurz
DESCRIPTION:Místo konání: Praha 8\, Hotel Troja\nDélka trvání: 1 den \nPořadatel: Dermatologie prof. Hercogové sro \nOdborný garant: prof. MUDr. Jana Třešňák Hercogová\, CSC.\, MHA\, IFAAD \nKontakt: kongres@euderma.eu
URL:https://derm.cz/udalost/dermascope-dermatoskopicky-kurz/
ATTACH;FMTTYPE=image/webp:https://derm.cz/wp-content/uploads/2025/04/calendar_placeholder_16_10.webp
END:VEVENT
BEGIN:VEVENT
DTSTART;TZID=Europe/Prague:20260319T120000
DTEND;TZID=Europe/Prague:20260319T163000
DTSTAMP:20260425T181811
CREATED:20251025T204950Z
LAST-MODIFIED:20260120T085244Z
UID:3913-1773921600-1773937800@derm.cz
SUMMARY:Kazuistický seminář Ostrava
DESCRIPTION:Místo konání: posluchárna Domova sester\, FN Ostrava \nDélka trvání: 3 hodiny \nPořadatel: Kožní oddělení FN Ostrava \nOdborný garant: prim. MUDr. Yvetta Vantuchová\, Ph.D. \nKontakt: jana.glettova@fno.cz
URL:https://derm.cz/udalost/kazuisticky-seminar-2/
ATTACH;FMTTYPE=image/webp:https://derm.cz/wp-content/uploads/2025/04/calendar_placeholder_16_10.webp
END:VEVENT
BEGIN:VEVENT
DTSTART;VALUE=DATE:20260227
DTEND;VALUE=DATE:20260301
DTSTAMP:20260425T181811
CREATED:20251230T094656Z
LAST-MODIFIED:20251230T094656Z
UID:4051-1772150400-1772323199@derm.cz
SUMMARY:Skin and Eye
DESCRIPTION:Skin and Eye \nDélka trvání: 10 hodin \nMísto konání: Hotel Vinař\, Kurdějov \nPořadatel: T.E.O. Consulting. \nOdborný garant: MUDr. Klára Marešová\, Ph.D.\, FEBO\, prof. MUDr. Petr Arenberger\, DrSc.\, MBA\, FCMA \nKontakt: avemedica@email.cz
URL:https://derm.cz/udalost/skin-and-eye/
ATTACH;FMTTYPE=image/webp:https://derm.cz/wp-content/uploads/2025/04/calendar_placeholder_16_10.webp
END:VEVENT
BEGIN:VEVENT
DTSTART;TZID=Europe/Prague:20260226T150000
DTEND;TZID=Europe/Prague:20260226T170000
DTSTAMP:20260425T181811
CREATED:20260120T091854Z
LAST-MODIFIED:20260120T092333Z
UID:4103-1772118000-1772125200@derm.cz
SUMMARY:25.výročí založení Klinického EB Centra v ČR (odpolední setkání v Praze)
DESCRIPTION:Místo konání: Werichova vila\, Praha – Malá Strana \nDoba trvání: 2 hodiny \nPořadatel: DEBRA ČR a Pracovní skupina dětské dermatologie ČDS \nOdborný garant: prim. MUDr. Hana Bučková\, Ph.D. \n  \nVyroci EB Centra 25 let-3
URL:https://derm.cz/udalost/25-vyroci-zalozeni-klinickeho-eb-centra-v-cr-odpoledni-setkani-v-praze/
ATTACH;FMTTYPE=image/webp:https://derm.cz/wp-content/uploads/2025/04/calendar_placeholder_16_10.webp
END:VEVENT
BEGIN:VEVENT
DTSTART;VALUE=DATE:20260211
DTEND;VALUE=DATE:20260212
DTSTAMP:20260425T181811
CREATED:20260130T082559Z
LAST-MODIFIED:20260130T082859Z
UID:4160-1770768000-1770854399@derm.cz
SUMMARY:Regionální dermatovenerologický seminář Hradec Králové
DESCRIPTION:Místo konání: PETROF Gallery\, Hradec Králové\, Na Brně 2136/4 \nDélka trvání: 4 hodiny \nPořadatel: ČLS JEP a Klinika nemocí kožních a pohlavních LF UK \nOdborný garant: prof. MUDr. Jarmila Čelakovská\, Ph.D. \nKontakt: www.signify.cz \nProgram semináře_11022026
URL:https://derm.cz/udalost/regionalni-dermatovenerologicky-seminar-hradec-kralove/
ATTACH;FMTTYPE=image/webp:https://derm.cz/wp-content/uploads/2025/04/calendar_placeholder_16_10.webp
END:VEVENT
BEGIN:VEVENT
DTSTART;VALUE=DATE:20260204
DTEND;VALUE=DATE:20260205
DTSTAMP:20260425T181811
CREATED:20251112T223733Z
LAST-MODIFIED:20260120T094152Z
UID:3968-1770163200-1770249599@derm.cz
SUMMARY:Derma Update 4.2.2026
DESCRIPTION:Místo konání: Praha\, Cubex \nDélka trvání: 10 hodin \nPořadatel: ČDS ČLS JEP \nOdborný garant: prof. MUDr. Petr Arenberger\, DrSc.\, MBA\, FCMA \nKontakt: www.jasta.cz \nProgram Derma update 2026 strana 1 Program Derma update 2026 strana 2 Program Derma update 2026 strana 3 Program Derma update 2026 strana 4
URL:https://derm.cz/udalost/derma-update-4-2-2026/
LOCATION:Praha\, Cubex
ATTACH;FMTTYPE=image/webp:https://derm.cz/wp-content/uploads/2025/04/calendar_placeholder_16_10.webp
END:VEVENT
BEGIN:VEVENT
DTSTART;VALUE=DATE:20260122
DTEND;VALUE=DATE:20260123
DTSTAMP:20260425T181811
CREATED:20251024T205958Z
LAST-MODIFIED:20251230T100023Z
UID:3907-1769040000-1769126399@derm.cz
SUMMARY:Kazuistický seminář Ostrava
DESCRIPTION:Délka trvání: 3 hodiny \nMísto konání: posluchárna Domova sester\, FN Ostrava \nPořadatel: Kožní oddělení FN Ostrava \nOdborný garant: prim. MUDr. Yvetta Vantuchová\, Ph.D. \nKontakt: jana.glettova@fno.cz
URL:https://derm.cz/udalost/kazuisticky-seminar/
ATTACH;FMTTYPE=image/webp:https://derm.cz/wp-content/uploads/2025/04/calendar_placeholder_16_10.webp
END:VEVENT
BEGIN:VEVENT
DTSTART;TZID=Europe/Prague:20260120T170000
DTEND;TZID=Europe/Prague:20260120T190000
DTSTAMP:20260425T181811
CREATED:20251230T094355Z
LAST-MODIFIED:20251230T094355Z
UID:4049-1768928400-1768935600@derm.cz
SUMMARY:Webinář: Diferenciální diagnostika v pediatrické praxi
DESCRIPTION:Délka trvání: 2 hodiny \nMísto konání: webinář \nPořadatel: Grada Publishing a.s. \nOdborný garant: doc. MUDr. Jan David\, Ph.D. \nKontakt: michaela.lizlerova@grada.cz
URL:https://derm.cz/udalost/webinar-diferencialni-diagnostika-v-pediatricke-praxi/
ATTACH;FMTTYPE=image/webp:https://derm.cz/wp-content/uploads/2025/04/calendar_placeholder_16_10.webp
END:VEVENT
BEGIN:VEVENT
DTSTART;VALUE=DATE:20260109
DTEND;VALUE=DATE:20260112
DTSTAMP:20260425T181811
CREATED:20251024T115715Z
LAST-MODIFIED:20251025T203553Z
UID:3901-1767916800-1768175999@derm.cz
SUMMARY:28. Lipovské dermatovenerologické fórum
DESCRIPTION:Místo konání: Schrothovy léčebné lázně\, Dolní Lipová \nDélka trvání: 12 hodin \nPořadatel: Schroth\, spol. s r. o.\, Lázně Dolní Lipová; Klinika nemocí kožních a pohlavních FN a LF UK v Hradci Králové \nOdborný garant: doc. MUDr. Karel Ettler\, CSc.\, prim. MUDr. Lubomír Drlík \nKontakt: konference@lazne-lipova.cz
URL:https://derm.cz/udalost/28-lipovske-dermatovenerologicke-forum/
ATTACH;FMTTYPE=image/webp:https://derm.cz/wp-content/uploads/2025/04/calendar_placeholder_16_10.webp
END:VEVENT
BEGIN:VEVENT
DTSTART;VALUE=DATE:20251206
DTEND;VALUE=DATE:20251207
DTSTAMP:20260425T181811
CREATED:20251203T094357Z
LAST-MODIFIED:20251203T094357Z
UID:3982-1764979200-1765065599@derm.cz
SUMMARY:XXX. vzdělávací sympozium estetické a plastické chirurgie
DESCRIPTION:Místo konání: Praha – Břevnovský klášter \nPořadatel: IPVZ \nOdborný garant: doc. MUDr. Martin Molitor\, Ph.D.\, MBA \nKontakt: eva.charova@ipvz.cz
URL:https://derm.cz/udalost/xxx-vzdelavaci-sympozium-esteticke-a-plasticke-chirurgie/
ATTACH;FMTTYPE=image/webp:https://derm.cz/wp-content/uploads/2025/04/calendar_placeholder_16_10.webp
END:VEVENT
BEGIN:VEVENT
DTSTART;VALUE=DATE:20251205
DTEND;VALUE=DATE:20251206
DTSTAMP:20260425T181811
CREATED:20250422T135926Z
LAST-MODIFIED:20250526T194447Z
UID:2618-1764892800-1764979199@derm.cz
SUMMARY:Dermaguide 8 – klinické postupy v dermatologii
DESCRIPTION:Místo konání: Praha\n5. 12. 2025 (od 13 hod)\nDélka trvání: 5 hodin \nPořadatel: Česká akademie dermatovenerologie zs \nOdborný garant: prof. MUDr. Jana Třešňák Hercogová\, CSC.\, MHA\, IFAAD \nKontakt: cadv@dermanet.eu\, www.dermanet.eu
URL:https://derm.cz/udalost/dermaguide-8-klinicke-postupy-v-dermatologii/
ATTACH;FMTTYPE=image/png:https://derm.cz/wp-content/uploads/2025/05/dermanet.png
END:VEVENT
BEGIN:VEVENT
DTSTART;VALUE=DATE:20251129
DTEND;VALUE=DATE:20251130
DTSTAMP:20260425T181811
CREATED:20251114T094441Z
LAST-MODIFIED:20251114T094441Z
UID:3971-1764374400-1764460799@derm.cz
SUMMARY:51. Flebologický den s mezinárodní účasti
DESCRIPTION:Místo konání: Dům ČSVTS\, Novotného lávka 5\, Praha 1 \nDélka trvání: 9.30-17.00 hod (5 kreditů ČLK) \nOdborný garant: prim. MUDr. Jaroslav Strejček\, CSc. \nPořadatel: Česká flebologická společnost ČLS JEP ve spolupráci s Pracovní skupinou dermatologické angiologie ČDS ČLS JEP \nKontakt: amca@amca.cz
URL:https://derm.cz/udalost/51-flebologicky-den-s-mezinarodni-ucasti/
ATTACH;FMTTYPE=image/webp:https://derm.cz/wp-content/uploads/2025/04/calendar_placeholder_16_10.webp
END:VEVENT
BEGIN:VEVENT
DTSTART;VALUE=DATE:20251127
DTEND;VALUE=DATE:20251128
DTSTAMP:20260425T181811
CREATED:20250422T135829Z
LAST-MODIFIED:20250916T064922Z
UID:2616-1764201600-1764287999@derm.cz
SUMMARY:XVII. Mikulášská konference v Podještědí
DESCRIPTION:Místo konání: Liberec\, Kulturní centrum Vratislavice 101010 \nDélka trvání: 6 hodin \nPořadatel: Klinika nemocí kožních a pohlavních FN a LF UK v Hradci Králové a Everesta\, s.r.o. \nOdborný garant: doc. MUDr. Karel Ettler\, CSc. \nKontakt: lenka.springlova@seznam.cz
URL:https://derm.cz/udalost/xvii-mikulasska-konference-v-podjestedi/
ATTACH;FMTTYPE=image/webp:https://derm.cz/wp-content/uploads/2024/12/logo_re_oswald-2.webp
END:VEVENT
BEGIN:VEVENT
DTSTART;VALUE=DATE:20251127
DTEND;VALUE=DATE:20251128
DTSTAMP:20260425T181811
CREATED:20250422T135758Z
LAST-MODIFIED:20250512T185320Z
UID:2613-1764201600-1764287999@derm.cz
SUMMARY:Odborný seminář kožního oddělení Ostrava
DESCRIPTION:Místo konání: posluchárna Domova sester FN Ostrava \nPořadatel: Kožní odd. FN Ostrava \nOdborný garant: prim. MUDr. Yvetta Vantuchová\, Ph.D. \nKontakt: 597374500\, 597374540
URL:https://derm.cz/udalost/odborny-seminar-kozniho-oddeleni-ostrava/
ATTACH;FMTTYPE=image/webp:https://derm.cz/wp-content/uploads/2024/12/logo_re_oswald-2.webp
END:VEVENT
BEGIN:VEVENT
DTSTART;VALUE=DATE:20251126
DTEND;VALUE=DATE:20251128
DTSTAMP:20260425T181811
CREATED:20250422T135705Z
LAST-MODIFIED:20250512T185306Z
UID:2611-1764115200-1764287999@derm.cz
SUMMARY:Trýbův dermatologický den
DESCRIPTION:Místo konání: Hotel International\, Brno \nDélka trvání: 2 dny \nPořadatel: I. dermatovenerologická klinika FN u sv. Anny v Brně \nOdborný garant: prof. MUDr. Hana Jedličková\, Ph.D. \nKontakt: hana.jedlickova@fnusa.cz
URL:https://derm.cz/udalost/trybuv-dermatologicky-den/
ATTACH;FMTTYPE=image/webp:https://derm.cz/wp-content/uploads/2024/12/logo_re_oswald-2.webp
END:VEVENT
BEGIN:VEVENT
DTSTART;VALUE=DATE:20251126
DTEND;VALUE=DATE:20251127
DTSTAMP:20260425T181811
CREATED:20250422T135631Z
LAST-MODIFIED:20250512T185247Z
UID:2609-1764115200-1764201599@derm.cz
SUMMARY:Večer Spolku lékařů Dermatovenerologické kliniky a Oddělení klinické farmakologie v Plzni
DESCRIPTION:Místo konání: Azurová posluchárna LFUK\, alej Svobody 76\, 30100 Plzeň \nDélka trvání: 1\,5 hod. \nPořadatel: Spolek lékařů v Plzni ČLS JEP \nOdborný garant: prof. MUDr. Petra Cetkovská\, Ph.D. \nKontakt: cetkovska@fnplzen.cz
URL:https://derm.cz/udalost/vecer-spolku-lekaru-dermatovenerologicke-kliniky-a-oddeleni-klinicke-farmakologie-v-plzni/
ATTACH;FMTTYPE=image/webp:https://derm.cz/wp-content/uploads/2024/12/logo_re_oswald-2.webp
END:VEVENT
BEGIN:VEVENT
DTSTART;VALUE=DATE:20251125
DTEND;VALUE=DATE:20251126
DTSTAMP:20260425T181811
CREATED:20250422T135551Z
LAST-MODIFIED:20250512T185233Z
UID:2607-1764028800-1764115199@derm.cz
SUMMARY:Setkání dermatovenerologů kraje Vysočina
DESCRIPTION:Místo konání: Jihlava \nDélka trvání: 3 \nPořadatel: Kožní oddělení Nemocnice Jihlava + Česká dermatovenerologická společnost ČLS JEP) \nOdborný garant: prim. MUDr. Marie Policarová \nKontaktní osoba: policarovam@nemji.cz
URL:https://derm.cz/udalost/setkani-dermatovenerologu-kraje-vysocina-2/
ATTACH;FMTTYPE=image/webp:https://derm.cz/wp-content/uploads/2024/12/logo_re_oswald-2.webp
END:VEVENT
BEGIN:VEVENT
DTSTART;VALUE=DATE:20251119
DTEND;VALUE=DATE:20251120
DTSTAMP:20260425T181811
CREATED:20250422T135526Z
LAST-MODIFIED:20250512T192711Z
UID:2605-1763510400-1763596799@derm.cz
SUMMARY:Regionální dermatovenerologický seminář v Hradci Králové
DESCRIPTION:Místo konání: PETROF Gallery\, Hradec Králové\, Na Brně 2136/4 \nDélka trvání: 4 hodiny \nPořadatel: ČLS JEP a Klinika nemocí kožních a pohlavních LF UK \nOdborný garant: doc. MUDr. Jarmila Čelakovská\, Ph.D. \nKontakt: www.signify.cz
URL:https://derm.cz/udalost/regionalni-dermatovenerologicky-seminar-2/
LOCATION:PETROF Gallery\, Na Brně 2136/4\, Hradec Králové\, Czech Republic
ATTACH;FMTTYPE=image/webp:https://derm.cz/wp-content/uploads/2024/12/logo_re_oswald-2.webp
END:VEVENT
BEGIN:VEVENT
DTSTART;VALUE=DATE:20251118
DTEND;VALUE=DATE:20251122
DTSTAMP:20260425T181811
CREATED:20250414T164303Z
LAST-MODIFIED:20250512T191757Z
UID:2375-1763424000-1763769599@derm.cz
SUMMARY:Euroderm Excellence - kurz pro rezidenty\, Řím\, listopad 2025
DESCRIPTION:🎓 EDF Euroderm Excellence 2025 – Přihlas se!📅 18.–21. listopadu 2025📍 Řím\, Itálie \n\n\nročník prestižního evropského vzdělávacího programu pro rezidenty v dermatologii je tu! Pokud jsi v posledním roce specializační přípravy\, máš jedinečnou možnost být vybrán mezi nejlepší evropské rezidenty a zúčastnit se tohoto intenzivního školení pod vedením předních odborníků. \n\n\n👉 Tématem letošního ročníku je „Dermatologie zítřka“📌 Ubytování\, stravování a program jsou hrazeny (nezahrnuje cestovní náklady).📝 Přihlas se do 30. června 2025 přes www.eurodermexcellence.com \nNepropásni šanci reprezentovat Česko na prestižním mezinárodním fóru! \n \nLeták ke stažení: \neuroderm_flyer_2025
URL:https://derm.cz/udalost/euroderm-excellence-kurz-pro-rezidenty-rim-18-21-11-2025/
LOCATION:A.ROMA LIFESTYLE HOTEL ROME\, Via Giorgio Zoega\, 59\, Rome\, 00164\, Italy
ATTACH;FMTTYPE=image/webp:https://derm.cz/wp-content/uploads/2025/04/calendar_placeholder_16_10.webp
END:VEVENT
BEGIN:VEVENT
DTSTART;VALUE=DATE:20251114
DTEND;VALUE=DATE:20251115
DTSTAMP:20260425T181811
CREATED:20250422T135457Z
LAST-MODIFIED:20250512T185204Z
UID:2603-1763078400-1763164799@derm.cz
SUMMARY:Konference Akné a obličejové dermatózy
DESCRIPTION:Místo konání: Praha 8\, hotel Tristar \nDélka trvání: 5 \nPořadatel: Pracovní skupina akné a obličejové dermatózy České dermatovenerologické společnosti ČLS JEP \nOdborný garant: MUDr. Petr Arenberger\, DrSc.\, MBA\, FCM \nKontaktní osoba za organizátora: zdena.soukupova@teoconsulting.cz; za skupinu: znevoralova@atlas.cz
URL:https://derm.cz/udalost/konference-akne-a-oblicejove-dermatozy/
ATTACH;FMTTYPE=image/webp:https://derm.cz/wp-content/uploads/2024/12/logo_re_oswald-2.webp
END:VEVENT
BEGIN:VEVENT
DTSTART;VALUE=DATE:20251031
DTEND;VALUE=DATE:20251102
DTSTAMP:20260425T181811
CREATED:20250422T135427Z
LAST-MODIFIED:20250512T185109Z
UID:2601-1761868800-1762041599@derm.cz
SUMMARY:31. Národní dermatologický kongres
DESCRIPTION:Místo konání: Brno \nDélky trvání: 2 dny \nPořadatel: Česká akademie dermatovenerologie zs \nOdborný garant: prof. MUDr. Vladimír Vašků\, CSc.\, IFAAD \nKontakt: cadv@dermanet.eu\, www.dermanet.eu
URL:https://derm.cz/udalost/31-narodni-dermatologicky-kongres/
ATTACH;FMTTYPE=image/png:https://derm.cz/wp-content/uploads/2025/05/dermanet.png
END:VEVENT
BEGIN:VEVENT
DTSTART;VALUE=DATE:20251024
DTEND;VALUE=DATE:20251026
DTSTAMP:20260425T181811
CREATED:20250422T135302Z
LAST-MODIFIED:20250512T185054Z
UID:2599-1761264000-1761436799@derm.cz
SUMMARY:Podzimní škola dermatohistopatologie
DESCRIPTION:24. – 25. 10. 2025 (od 16 hod)\nMísto konání: Plzeň\, Bioptická laboratoř\nDélka trvání: 2 dny\nPořadatel: Česká akademie dermatovenerologie zs\, Bioptická laboratoř sro \nOdborný garant: prof. MUDr. Denisa Kacerovská\, Ph.D.\, prof. MUDr. Jana Třešňák Hercogová\, CSC.\, MHA\, IFAAD\, prof. MUDr. Michal Michal\, CSc. \nKontakt: cadv@dermanet.eu\, www.dermanet.eu
URL:https://derm.cz/udalost/podzimni-skola-dermatohistopatologie/
LOCATION:Bioptická laboratoř\, Plzeň
ATTACH;FMTTYPE=image/png:https://derm.cz/wp-content/uploads/2025/05/dermanet.png
END:VEVENT
BEGIN:VEVENT
DTSTART;VALUE=DATE:20251017
DTEND;VALUE=DATE:20251018
DTSTAMP:20260425T181811
CREATED:20250422T135159Z
LAST-MODIFIED:20250911T150859Z
UID:2597-1760659200-1760745599@derm.cz
SUMMARY:Konference dětské dermatologie
DESCRIPTION:Místo konání: Brno \nDélka trvání: 8 hod. \nPořadatel: Dětské kožní odd. Pediatrické kliniky FN a LF MU v Brně \nOdborný garant: prim. MUDr. Blanka Pinková\, Ph.D. \nKontakt: https://detska-dermatologie.cz/odborne-akce-dd/
URL:https://derm.cz/udalost/https-detska-dermatologie-cz-odborne-akce-dd-konference-detske-dermatologie/
ATTACH;FMTTYPE=image/webp:https://derm.cz/wp-content/uploads/2024/11/logo_re_oswald-1.webp
END:VEVENT
BEGIN:VEVENT
DTSTART;VALUE=DATE:20251015
DTEND;VALUE=DATE:20251018
DTSTAMP:20260425T181811
CREATED:20250422T135132Z
LAST-MODIFIED:20251014T084501Z
UID:2595-1760486400-1760745599@derm.cz
SUMMARY:Hradecké dermatovenerologické dny
DESCRIPTION:Místo konání: Hradec Králové \nDélka trvání: 3 dny \nPořadatel: Klinika nemocí kožních a pohlavních\, FN a LF UK v Hradci Králové \nOdborný garant: doc. MUDr. Jarmila Čelakovská\, Ph.D. \nKontakt: www. signify. cz \nProgram: www.signify.cz/wp-content/uploads/2025/10/Program-2025-HDVD.pdf
URL:https://derm.cz/udalost/hradecke-dermatovenerologicke-dny/
ATTACH;FMTTYPE=image/webp:https://derm.cz/wp-content/uploads/2024/12/logo_re_oswald-2.webp
END:VEVENT
BEGIN:VEVENT
DTSTART;VALUE=DATE:20251009
DTEND;VALUE=DATE:20251012
DTSTAMP:20260425T181811
CREATED:20250422T135059Z
LAST-MODIFIED:20250422T183613Z
UID:2593-1759968000-1760227199@derm.cz
SUMMARY:Lymfo 2025: Lymfologie v otázkách a odpovědích
DESCRIPTION:Místo konání: Brno\, Hotel International \nDélka trvání: 3 dny \nPořadatel: Lymfologická společnost ČLS JEP \nOdborný garant: MUDr. Věra Pavlasová \nKontakt: www.lympho.cz
URL:https://derm.cz/udalost/lymfo-2025-lymfologie-v-otazkach-a-odpovedich/
ATTACH;FMTTYPE=image/webp:https://derm.cz/wp-content/uploads/2025/04/calendar_placeholder_16_10.webp
END:VEVENT
END:VCALENDAR